BEGIN:VCALENDAR
VERSION:2.0
CALSCALE:GREGORIAN
PRODID:adamgibbons/ics
METHOD:PUBLISH
X-PUBLISHED-TTL:PT1H
BEGIN:VEVENT
UID:14@wangental-bern.ch
SUMMARY:Streetsoccer Qualifikationsturnier
DTSTAMP:20260422T121236Z
DTSTART:20260531T080000Z
DTEND:20260531T160000Z
URL:https://wangental-bern.ch/event/streetsoccer-qualifikationsturnier
LOCATION:Sportplatz Ried - Papillonallee\, 3172 Niederwangen
STATUS:CONFIRMED
CATEGORIES:
BEGIN:VALARM
ACTION:DISPLAY
DESCRIPTION:Streetsoccer Qualifikationsturnier
TRIGGER:-PT1H
END:VALARM
END:VEVENT
END:VCALENDAR
