BEGIN:VCALENDAR
VERSION:2.0
CALSCALE:GREGORIAN
PRODID:adamgibbons/ics
METHOD:PUBLISH
X-PUBLISHED-TTL:PT1H
BEGIN:VEVENT
UID:13@wangental-bern.ch
SUMMARY:Wangenmärit 2026 – wo me lädelet\, gniesst und zämächunnt
DTSTAMP:20260419T123509Z
DTSTART:20260829T070000Z
DTEND:20260829T140000Z
DESCRIPTION:Jeweils am letzten Samstag im August verwandelt sich das Dorfze
	ntrum von\nOberwangen in einen lebendigen Treffpunkt: Der «Wangenmärit» lä
	dt zum Entdecken\,\nGeniessen und Verweilen ein.\n\nEine vielfältige Auswa
	hl an Ständen bietet für jeden Geschmack etwas: Von\nregionalen Spezialitä
	ten über handgefertigte Produkte bis hin zu besonderen\nEinzelstücken. Ob 
	beim gemütlichen Bummeln durch die Marktgasse oder beim\ngezielten Einkauf
	en – der Wangenmärit begeistert mit seiner besonderen\nAtmosphäre Besucher
	innen und Besucher aus Oberwangen\, dem Wangental und der\nganzen Umgebung
	.\n\nAuch das gesellige Beisammensein kommt nicht zu kurz. Die Westside Ba
	nd\norganisiert die Verpflegung im Festzelt\, und die Feuerwehr verwöhnt d
	ie Gäste\ntraditionell mit feinem Risotto.\n\nDer Wangenmärit ist ein Anla
	ss für Jung und Alt – zum Einkaufen\, Geniessen und\nZusammensein.\n\nWir 
	freuen uns auf Ihren Besuch!\n\n=> Anmeldung für einen Märitstand\n[https:
	//oberwangen-bern.ch/anmeldung-wangenmarit/]
URL:https://wangental-bern.ch/event/wangenmarit-2026-wo-me-ladelet-gniesst-
	und-zamachunnt
LOCATION:Oberwangen - Kirchenrain\, 3173 Oberwangen
STATUS:CONFIRMED
CATEGORIES:
X-ALT-DESC;FMTTYPE=text/html:<p>Jeweils am letzten Samstag im August verwan
	delt sich das Dorfzentrum von Oberwangen in einen lebendigen Treffpunkt: D
	er «Wangenmärit» lädt zum Entdecken, Geniessen und Verweilen ein.</p><p>Ei
	ne vielfältige Auswahl an Ständen bietet für jeden Geschmack etwas: Von re
	gionalen Spezialitäten über handgefertigte Produkte bis hin zu besonderen 
	Einzelstücken. Ob beim gemütlichen Bummeln durch die Marktgasse oder beim 
	gezielten Einkaufen – der Wangenmärit begeistert mit seiner besonderen Atm
	osphäre Besucherinnen und Besucher aus Oberwangen, dem Wangental und der g
	anzen Umgebung.</p><p>Auch das gesellige Beisammensein kommt nicht zu kurz
	. Die Westside Band organisiert die Verpflegung im Festzelt, und die Feuer
	wehr verwöhnt die Gäste traditionell mit feinem Risotto.</p><p>Der Wangenm
	ärit ist ein Anlass für Jung und Alt – zum Einkaufen, Geniessen und Zusamm
	ensein.</p><p><strong>Wir freuen uns auf Ihren Besuch!</strong></p><p><a t
	arget="_blank" href="https://oberwangen-bern.ch/anmeldung-wangenmarit/"><u
	>=&gt; Anmeldung für einen Märitstand</u></a></p>
BEGIN:VALARM
ACTION:DISPLAY
DESCRIPTION:Wangenmärit 2026 – wo me lädelet, gniesst und zämächunnt
TRIGGER:-PT1H
END:VALARM
END:VEVENT
END:VCALENDAR
